BEGIN:VCALENDAR
VERSION:2.0
PRODID:-//eventon.com NONSGML v1.0//EN
CALSCALE:GREGORIAN
METHOD:PUBLISH
BEGIN:VEVENT
UID:69ed7955698e8
DTSTAMP:20260426T023253Z
DTSTART:20211208T140000Z
DTEND:20211208T210000Z
LOCATION:Carroll County Farm Museum 500 South Center Street
SUMMARY:Holiday Tour
DESCRIPTION:Carroll County Farm Museum &#8212; 2021 Holiday Tour Flyer 2021
  Holiday Tour December 1 &#8211; 19 Admission $3 adult/$10 family Santa at 
 the Farm Museum December 4 &amp; 5 • Noon to 4 p.m. December 11 &amp; 12 
 • Noon to 4 p.m. December 18 &amp; 19 • Noon to[..]\nhttps://carrollcou
 ntyfarmmuseum.org/events/holiday-tour/var/ri-5.l-L1
URL:https://carrollcountyfarmmuseum.org/events/holiday-tour/var/ri-5.l-L1
END:VEVENT
END:VCALENDAR