BEGIN:VCALENDAR
VERSION:2.0
PRODID:-//eventon.com NONSGML v1.0//EN
CALSCALE:GREGORIAN
METHOD:PUBLISH
BEGIN:VEVENT
UID:69e88d2447a77
DTSTAMP:20260422T085604Z
DTSTART:20220109T170000Z
DTEND:20220109T210000Z
LOCATION:
SUMMARY:Free Admission
DESCRIPTION:Enjoy free admission to the Farm Museum January 3 through the e
 nd of March. Hours of operations:* Mon-Fri: 9am to 4pm Sat/Sun: Noon to 4pm
  For more info please contact the Museum at 800-654-4645 or ccfarm@carrollc
 ountymd.gov *Inclement weather may affect these hours. Holidays may affect 
 these hours*\nhttps://carrollcountyfarmmuseum.org/events/free-admission-2/v
 ar/ri-1.l-L1
URL:https://carrollcountyfarmmuseum.org/events/free-admission-2/var/ri-1.l-L1
END:VEVENT
END:VCALENDAR