BEGIN:VCALENDAR
VERSION:2.0
PRODID:-//eventon.com NONSGML v1.0//EN
CALSCALE:GREGORIAN
METHOD:PUBLISH
BEGIN:VEVENT
UID:69e739486c0be
DTSTAMP:20260421T084600Z
DTSTART:20220711T130000Z
DTEND:20220715T200000Z
LOCATION:
SUMMARY:Living History Camp
DESCRIPTION:Living History Camp teaches children\,  entering 3rd through 6t
 h grades\,  rural farm life in the 1800s through demonstrations and hands-o
 n experiences. This award winning educational camp combines learning and ha
 ving fun in a unique setting. Children learn old-time skills\,  old-fashion
 ed games\,  and make craft projects to take home. Spaces are[..]\nhttps://c
 arrollcountyfarmmuseum.org/events/living-history-camp/var/ri-1.l-L1
URL:https://carrollcountyfarmmuseum.org/events/living-history-camp/var/ri-1.l-L1
END:VEVENT
END:VCALENDAR