BEGIN:VCALENDAR
VERSION:2.0
PRODID:-//eventon.com NONSGML v1.0//EN
CALSCALE:GREGORIAN
METHOD:PUBLISH
BEGIN:VEVENT
UID:69ea3b60edf1d
DTSTAMP:20260423T153144Z
DTSTART:20220625T160000Z
DTEND:20220625T230000Z
LOCATION:
SUMMARY:Secret Garden Music\,  Arts & Wine Festival
DESCRIPTION:The Secret Garden Music\,  Arts &amp; Wine Festival series will
  be returning to the Carroll County Farm Museum the following dates: June 2
 5 &amp; 26: Noon to 7 pm July 17: Noon to 7 pm August 21: 11 am to 6 pm Oct
 ober 9: 11 am to 6 pm Please[..]\nhttps://carrollcountyfarmmuseum.org/event
 s/secret-garden-music-arts-wine-festival/
URL:https://carrollcountyfarmmuseum.org/events/secret-garden-music-arts-wine-festival/
END:VEVENT
END:VCALENDAR