BEGIN:VCALENDAR
VERSION:2.0
PRODID:-//eventon.com NONSGML v1.0//EN
CALSCALE:GREGORIAN
METHOD:PUBLISH
BEGIN:VEVENT
UID:69e73b38cac34
DTSTAMP:20260421T085416Z
DTSTART:20230507T160000Z
DTEND:20230507T200000Z
LOCATION:
SUMMARY:Veterans Celebration of Carroll County
DESCRIPTION:Join us for the 2nd annual Veterans Celebration of Carroll Coun
 ty on Sunday\,  May 7 from noon to 4pm at the Carroll County Farm Museum. A
 ll veterans\,  military\,  their families and all citizens are invited &amp
 ; admission is free! Come share in the family fun: live entertainment\,  ch
 ildren&#8217; activities\,  food[..]\nhttps://carrollcountyfarmmuseum.org/e
 vents/living-history-reenactment/
URL:https://carrollcountyfarmmuseum.org/events/living-history-reenactment/
END:VEVENT
END:VCALENDAR