BEGIN:VCALENDAR
VERSION:2.0
PRODID:-//eventon.com NONSGML v1.0//EN
CALSCALE:GREGORIAN
METHOD:PUBLISH
BEGIN:VEVENT
UID:69e74bca095bb
DTSTAMP:20260421T100458Z
DTSTART:20230619T160000Z
DTEND:20230619T200000Z
LOCATION:
SUMMARY:Holiday Hours
DESCRIPTION:The Museum will be open NOON to 4pm only on Monday\,  June 19. 
 We will reopen with regular hours (M-F 9am-4pm S/S noon-4pm) on Tuesday\,  
 June 20. Thank you!\nhttps://carrollcountyfarmmuseum.org/events/holiday-hou
 rs-8/
URL:https://carrollcountyfarmmuseum.org/events/holiday-hours-8/
END:VEVENT
END:VCALENDAR