BEGIN:VCALENDAR
VERSION:2.0
PRODID:-//eventon.com NONSGML v1.0//EN
CALSCALE:GREGORIAN
METHOD:PUBLISH
BEGIN:VEVENT
UID:69e73961ed105
DTSTAMP:20260421T084625Z
DTSTART:20230904T160000Z
DTEND:20230904T200000Z
LOCATION:
SUMMARY:Holiday Hours
DESCRIPTION:The Farm Museum will be open noon to 4pm only on Monday\,  Sept
 ember 4. We will resume regular hours on Tuesday\,  September 5.\nhttps://c
 arrollcountyfarmmuseum.org/events/holiday-hours-9/
URL:https://carrollcountyfarmmuseum.org/events/holiday-hours-9/
END:VEVENT
END:VCALENDAR