BEGIN:VCALENDAR
VERSION:2.0
PRODID:-//eventon.com NONSGML v1.0//EN
CALSCALE:GREGORIAN
METHOD:PUBLISH
BEGIN:VEVENT
UID:69e4da660f57e
DTSTAMP:20260419T133638Z
DTSTART:20231209T170000Z
DTEND:20231209T210000Z
LOCATION:
SUMMARY:A 'Postman's Christmas' Holiday Tour
DESCRIPTION:Holiday Tours begin Friday\,  December 1\,  2023 thru Friday\, 
  December 22\,  2023. The Farm Museum is open Mon – Fri 9 AM – 4 PM and
  Saturdays &amp; Sundays 12 – 4 PM Santa will be in the Schoolhouse from 
 12- 4 PM on Saturday and Sunday on the following[..]\nhttps://carrollcounty
 farmmuseum.org/events/a-postmans-christmas-holiday-tour-2/var/ri-2.l-L1
URL:https://carrollcountyfarmmuseum.org/events/a-postmans-christmas-holiday-tour-2/var/ri-2.l-L1
END:VEVENT
END:VCALENDAR