BEGIN:VCALENDAR
VERSION:2.0
PRODID:-//eventon.com NONSGML v1.0//EN
CALSCALE:GREGORIAN
METHOD:PUBLISH
BEGIN:VEVENT
UID:69e89fc29dc00
DTSTAMP:20260422T101530Z
DTSTART:20231123T140000Z
DTEND:20231123T210000Z
LOCATION:
SUMMARY:Closed for Holiday
DESCRIPTION:The Farm Museum will be closed Thursday\,  November 23. And wil
 l be open noon to 4pm only on Friday\,  November 24.\nhttps://carrollcounty
 farmmuseum.org/events/closed-for-holiday-9/
URL:https://carrollcountyfarmmuseum.org/events/closed-for-holiday-9/
END:VEVENT
END:VCALENDAR