BEGIN:VCALENDAR
VERSION:2.0
PRODID:-//eventon.com NONSGML v1.0//EN
CALSCALE:GREGORIAN
METHOD:PUBLISH
BEGIN:VEVENT
UID:69e74bc9af704
DTSTAMP:20260421T100457Z
DTSTART:20231231T170000Z
DTEND:20231231T210000Z
LOCATION:
SUMMARY:Holiday Hours
DESCRIPTION:The Museum will be open noon to 4pm only on December 31.\nhttps
 ://carrollcountyfarmmuseum.org/events/holiday-hours-11/
URL:https://carrollcountyfarmmuseum.org/events/holiday-hours-11/
END:VEVENT
END:VCALENDAR