BEGIN:VCALENDAR
VERSION:2.0
PRODID:-//eventon.com NONSGML v1.0//EN
CALSCALE:GREGORIAN
METHOD:PUBLISH
BEGIN:VEVENT
UID:69e8a3f2a4790
DTSTAMP:20260422T103322Z
DTSTART:20240401T010000Z
DTEND:20240331T200000Z
LOCATION:
SUMMARY:Closed for Holiday
DESCRIPTION:The Farm Museum will be closed Sunday\,  March 31.\nhttps://car
 rollcountyfarmmuseum.org/events/closed-for-holiday-12/
URL:https://carrollcountyfarmmuseum.org/events/closed-for-holiday-12/
END:VEVENT
END:VCALENDAR