BEGIN:VCALENDAR
VERSION:2.0
PRODID:-//eventon.com NONSGML v1.0//EN
CALSCALE:GREGORIAN
METHOD:PUBLISH
BEGIN:VEVENT
UID:69e737ba297e3
DTSTAMP:20260421T083922Z
DTSTART:20241214T170000Z
DTEND:20241214T210000Z
LOCATION:
SUMMARY:Santa in the Schoolhouse
DESCRIPTION:Welcome home for the holidays with Santa visiting us on select 
 weekends in December. Admission is $10 per family. Please bring your own ca
 mera to snap a photo with Santa. Food available for purchase onsite. Decemb
 er 1\,  7\,  8\,  14\,  15\,  21\,  &amp; 22: noon to 4pm only Mrs. Claus[.
 .]\nhttps://carrollcountyfarmmuseum.org/events/santa-in-the-schoolhouse/var
 /ri-2.l-L1
URL:https://carrollcountyfarmmuseum.org/events/santa-in-the-schoolhouse/var/ri-2.l-L1
END:VEVENT
END:VCALENDAR