BEGIN:VCALENDAR
VERSION:2.0
PRODID:-//eventon.com NONSGML v1.0//EN
CALSCALE:GREGORIAN
METHOD:PUBLISH
BEGIN:VEVENT
UID:69e88be0d6980
DTSTAMP:20260422T085040Z
DTSTART:20241109T160000Z
DTEND:20241109T183000Z
LOCATION:
SUMMARY:American Girl Doll Children's Tea
DESCRIPTION:Join us for a themed three-course tea in the cozy Victorian set
 ting of the Carroll Tea Room. After tea\,  enjoy a guided tour through the 
 historic 1880s Farmhouse by a costumed docent. Museum exhibits will be open
  for you to visit before or after your tea time American Girl Doll[..]\nhtt
 ps://carrollcountyfarmmuseum.org/events/16687/
URL:https://carrollcountyfarmmuseum.org/events/16687/
END:VEVENT
END:VCALENDAR