BEGIN:VCALENDAR
VERSION:2.0
PRODID:-//eventon.com NONSGML v1.0//EN
CALSCALE:GREGORIAN
METHOD:PUBLISH
BEGIN:VEVENT
UID:69e73768e18e5
DTSTAMP:20260421T083800Z
DTSTART:20241201T190000Z
DTEND:20241201T203000Z
LOCATION:
SUMMARY:'A Choo Choo Christmas' Holiday Tour Teas
DESCRIPTION:These teas have filled and we are no longer accepting reservati
 ons for them Join us for a themed three-course tea in the cozy Victorian se
 tting of the Carroll Tea Room. After tea\,  enjoy a guided tour through the
  historic 1880s Farmhouse by a costumed docent. Museum exhibits will be ope
 n[..]\nhttps://carrollcountyfarmmuseum.org/events/a-choo-choo-christmas-hol
 iday-tour-teas/
URL:https://carrollcountyfarmmuseum.org/events/a-choo-choo-christmas-holiday-tour-teas/
END:VEVENT
END:VCALENDAR