BEGIN:VCALENDAR
VERSION:2.0
PRODID:-//eventon.com NONSGML v1.0//EN
CALSCALE:GREGORIAN
METHOD:PUBLISH
BEGIN:VEVENT
UID:69e74b9c6e683
DTSTAMP:20260421T100412Z
DTSTART:20241224T140000Z
DTEND:20241224T180000Z
LOCATION:
SUMMARY:Holiday Hours
DESCRIPTION:The Farm Museum will be open from 9am-1pm only on December 24. 
 We will be closed on December 25 &amp; 26.\nhttps://carrollcountyfarmmuseum
 .org/events/holiday-hours-17/
URL:https://carrollcountyfarmmuseum.org/events/holiday-hours-17/
END:VEVENT
END:VCALENDAR