BEGIN:VCALENDAR
VERSION:2.0
PRODID:-//eventon.com NONSGML v1.0//EN
CALSCALE:GREGORIAN
METHOD:PUBLISH
BEGIN:VEVENT
UID:69e88c90dba0e
DTSTAMP:20260422T085336Z
DTSTART:20250102T140000Z
DTEND:20250102T210000Z
LOCATION:
SUMMARY:Free Admission
DESCRIPTION: Enjoy FREE admission to the Farm Museum January 2-February 28
 !\nhttps://carrollcountyfarmmuseum.org/events/free-admission-8/
URL:https://carrollcountyfarmmuseum.org/events/free-admission-8/
END:VEVENT
END:VCALENDAR