BEGIN:VCALENDAR
VERSION:2.0
PRODID:-//eventon.com NONSGML v1.0//EN
CALSCALE:GREGORIAN
METHOD:PUBLISH
BEGIN:VEVENT
UID:69eb8a319eb4e
DTSTAMP:20260424T152017Z
DTSTART:20250504T160000Z
DTEND:20250504T200000Z
LOCATION:
SUMMARY:2025 Veterans Celebration of Carroll County
DESCRIPTION:Information about the 4th Annual Veterans Celebration of Carrol
 l County Sunday\,  May 4\,  2025 · Noon – 4 PM Carroll County Farm Museu
 m 500 S. Center Street\,  Westminster\,  Maryland RAIN OR SHINE Free Admiss
 ion and Free Parking: The event has free admission and free parking for eve
 ryone. Reminder: Carroll County[..]\nhttps://carrollcountyfarmmuseum.org/ev
 ents/veterans-celebration-of-carroll-county/
URL:https://carrollcountyfarmmuseum.org/events/veterans-celebration-of-carroll-county/
END:VEVENT
END:VCALENDAR