BEGIN:VCALENDAR
VERSION:2.0
PRODID:-//eventon.com NONSGML v1.0//EN
CALSCALE:GREGORIAN
METHOD:PUBLISH
BEGIN:VEVENT
UID:69ea423062933
DTSTAMP:20260423T160048Z
DTSTART:20250704T200000Z
DTEND:20250705T020000Z
LOCATION:
SUMMARY:Fourth of July Celebration (2025)
DESCRIPTION:Presenting sponsor: Bad Monkey Electric Join us on July 4th for
  Carroll’s largest fireworks display at our Fourth of July Celebration st
 arting at 4pm with fireworks going off at sundown (approximately 9:30pm). A
 dmission is $10 per car. There will be food\,  live entertainment\,  childr
 en’s activities and more. Admission: $10 per[..]\nhttps://carrollcountyfa
 rmmuseum.org/events/fourth-of-july-celebration-2025/
URL:https://carrollcountyfarmmuseum.org/events/fourth-of-july-celebration-2025/
END:VEVENT
END:VCALENDAR