BEGIN:VCALENDAR
VERSION:2.0
PRODID:-//eventon.com NONSGML v1.0//EN
CALSCALE:GREGORIAN
METHOD:PUBLISH
BEGIN:VEVENT
UID:69ecb1ba454b2
DTSTAMP:20260425T122114Z
DTSTART:20250727T200000Z
DTEND:20250727T230000Z
LOCATION:
SUMMARY:Night at the Museum Concert Series #2
DESCRIPTION:Join the Carroll County Farm Museum for a series of Sunday even
 ing music this summer! July 27th – Don&#8217;t Back Down (Celebration of 
 Tom Petty &amp; The Heartbreakers Music) 2025 Sponsors: Outback Steakhouse\
 ,  Flood Zone Brewery\,  CLSI\,  Lawn Doctor\,  WTTR Gates open at 4pm / Co
 ncert: 5pm-7pm Tickets – $10[..]\nhttps://carrollcountyfarmmuseum.org/eve
 nts/night-at-the-museum-concert-series-2/
URL:https://carrollcountyfarmmuseum.org/events/night-at-the-museum-concert-series-2/
END:VEVENT
END:VCALENDAR