BEGIN:VCALENDAR
VERSION:2.0
PRODID:-//eventon.com NONSGML v1.0//EN
CALSCALE:GREGORIAN
METHOD:PUBLISH
BEGIN:VEVENT
UID:69eb9d463c61a
DTSTAMP:20260424T164142Z
DTSTART:20250913T150000Z
DTEND:20250913T210000Z
LOCATION:
SUMMARY:The Maryland Wine Festival (2025)
DESCRIPTION:The Maryland Wine Festival: September 13     11am to 5pm Joi
 n us for a day of celebration Maryland wine with tastings\,  bottles for pu
 rchase\,  fabulous food\,  entertainment\,  shopping and more! Learn more 
 by visiting the MWF website. Please stay tuned for more details. 2025 Stag
 e Sponsor: Sunbelt Rentals-Finksburg Thank you to our[..]\nhttps://carrollc
 ountyfarmmuseum.org/events/the-maryland-wine-festival-2025/
URL:https://carrollcountyfarmmuseum.org/events/the-maryland-wine-festival-2025/
END:VEVENT
END:VCALENDAR