BEGIN:VCALENDAR
VERSION:2.0
PRODID:-//eventon.com NONSGML v1.0//EN
CALSCALE:GREGORIAN
METHOD:PUBLISH
BEGIN:VEVENT
UID:69e7a2e124d5f
DTSTAMP:20260421T161633Z
DTSTART:20251025T150000Z
DTEND:20251025T210000Z
LOCATION:
SUMMARY:Maryland Crab Cake Festival (2025)
DESCRIPTION:Maryland Crab Cake Festival: October 25: 11am-5pm Please stay t
 uned for more details. Maryland Crabcake Festival is held &amp; hosted by a
 n external vendor. Event hours\,  admission\,  ticketing\,  rules\,  etc. a
 re subjected to that vendors discretion. Please no pets or outside alcohol.
 \nhttps://carrollcountyfarmmuseum.org/events/maryland-crab-cake-festival-20
 25/
URL:https://carrollcountyfarmmuseum.org/events/maryland-crab-cake-festival-2025/
END:VEVENT
END:VCALENDAR