BEGIN:VCALENDAR
VERSION:2.0
PRODID:-//eventon.com NONSGML v1.0//EN
CALSCALE:GREGORIAN
METHOD:PUBLISH
BEGIN:VEVENT
UID:69e74a7932327
DTSTAMP:20260421T095921Z
DTSTART:20250111T140000Z
DTEND:20250111T210000Z
LOCATION:
SUMMARY:Museum Closed
DESCRIPTION:The Farm Museum will be CLOSED on Saturday\,  January 11 and Su
 nday\,  January 12.\nhttps://carrollcountyfarmmuseum.org/events/museum-clos
 ed/
URL:https://carrollcountyfarmmuseum.org/events/museum-closed/
END:VEVENT
END:VCALENDAR