BEGIN:VCALENDAR
VERSION:2.0
PRODID:-//eventon.com NONSGML v1.0//EN
CALSCALE:GREGORIAN
METHOD:PUBLISH
BEGIN:VEVENT
UID:69e738f32351f
DTSTAMP:20260421T084435Z
DTSTART:20250112T140000Z
DTEND:20250112T210000Z
LOCATION:
SUMMARY:Museum Closed
DESCRIPTION:The Farm Museum will be CLOSED on Saturday\,  January 11 and Su
 nday\,  January 12.\nhttps://carrollcountyfarmmuseum.org/events/museum-clos
 ed/var/ri-1.l-L1
URL:https://carrollcountyfarmmuseum.org/events/museum-closed/var/ri-1.l-L1
END:VEVENT
END:VCALENDAR