BEGIN:VCALENDAR
VERSION:2.0
PRODID:-//eventon.com NONSGML v1.0//EN
CALSCALE:GREGORIAN
METHOD:PUBLISH
BEGIN:VEVENT
UID:69e7380e97491
DTSTAMP:20260421T084046Z
DTSTART:20250119T140000Z
DTEND:20250119T210000Z
LOCATION:
SUMMARY:Museum Closed
DESCRIPTION:The Museum will be closed on Sunday\,  January 19.\nhttps://car
 rollcountyfarmmuseum.org/events/museum-closed-2/
URL:https://carrollcountyfarmmuseum.org/events/museum-closed-2/
END:VEVENT
END:VCALENDAR