BEGIN:VCALENDAR
VERSION:2.0
PRODID:-//eventon.com NONSGML v1.0//EN
CALSCALE:GREGORIAN
METHOD:PUBLISH
BEGIN:VEVENT
UID:69e88c66c5ef6
DTSTAMP:20260422T085254Z
DTSTART:20250422T130000Z
DTEND:20250422T160000Z
LOCATION:
SUMMARY:Bees & Teas Day Camp
DESCRIPTION:Come see what the buzz is about at our Beas &amp; Teas Day Camp
  open to K-6th graders on April 22 from 9am-12pm. Registration required&#82
 11;$30 per child&#8211;space is limited. Visit with a beekeeper\,  enjoy ho
 ney-themed treats and make your own herb-infused honey. Email mgawel@carrol
 lcountymd.gov for registration info.\nhttps://carrollcountyfarmmuseum.org/e
 vents/bees-teas-day-camp/
URL:https://carrollcountyfarmmuseum.org/events/bees-teas-day-camp/
END:VEVENT
END:VCALENDAR