BEGIN:VCALENDAR
VERSION:2.0
PRODID:-//eventon.com NONSGML v1.0//EN
CALSCALE:GREGORIAN
METHOD:PUBLISH
BEGIN:VEVENT
UID:69e88b882f0bb
DTSTAMP:20260422T084912Z
DTSTART:20260212T140000Z
DTEND:20260212T210000Z
LOCATION:
SUMMARY:Free Admission
DESCRIPTION:Enjoy Free Admission to the Farm Museum January 2nd through Feb
 ruary 28th. Hours: Mon-Fri: 9am to 4pm Sat/Sun: 12pm to 4pm &nbsp; Inclemen
 t weather or holidays may affect Museum hours on certain dates* &nbsp; &nbs
 p;\nhttps://carrollcountyfarmmuseum.org/events/free-admission-9/var/ri-28.l
 -L1
URL:https://carrollcountyfarmmuseum.org/events/free-admission-9/var/ri-28.l-L1
END:VEVENT
END:VCALENDAR