BEGIN:VCALENDAR
VERSION:2.0
PRODID:-//eventon.com NONSGML v1.0//EN
CALSCALE:GREGORIAN
METHOD:PUBLISH
BEGIN:VEVENT
UID:69e88c90d29be
DTSTAMP:20260422T085336Z
DTSTART:20260623T130000Z
DTEND:20260623T160000Z
LOCATION:
SUMMARY:Half Day Farm Camp
DESCRIPTION:Half Day Farm Camp: Pre-K &#8211; 1st Grade June 22-26: 9am-12p
 m Please stay tuned for more details and registration information For speci
 fic questions please contact mgawel@carrollcountymd.gov\nhttps://carrollcou
 ntyfarmmuseum.org/events/half-day-farm-camp/var/ri-1.l-L1
URL:https://carrollcountyfarmmuseum.org/events/half-day-farm-camp/var/ri-1.l-L1
END:VEVENT
END:VCALENDAR