BEGIN:VCALENDAR
VERSION:2.0
PRODID:-//eventon.com NONSGML v1.0//EN
CALSCALE:GREGORIAN
METHOD:PUBLISH
BEGIN:VEVENT
UID:69e73bd10f0ae
DTSTAMP:20260421T085649Z
DTSTART:20260706T130000Z
DTEND:20260706T200000Z
LOCATION:
SUMMARY:Farm Camp (Full Day)
DESCRIPTION:Farm Camp (Full Day): July 6th-July 10th    9am-4pm Open to a
 ges 5 through 6th grade Please stay tuned for more information and registra
 tion details. For specific questions please contact mgawel@carrollcountymd.
 gov\nhttps://carrollcountyfarmmuseum.org/events/farm-camp-full-day/
URL:https://carrollcountyfarmmuseum.org/events/farm-camp-full-day/
END:VEVENT
END:VCALENDAR