BEGIN:VCALENDAR
VERSION:2.0
PRODID:-//eventon.com NONSGML v1.0//EN
CALSCALE:GREGORIAN
METHOD:PUBLISH
BEGIN:VEVENT
UID:69e597cb5b1ed
DTSTAMP:20260420T030443Z
DTSTART:20260725T210000Z
DTEND:20260726T020000Z
LOCATION:Carroll County Farm Museum 500 South Center Street
SUMMARY:Night at the Farm Museum
DESCRIPTION:Click Here for Sponosorship Info: Sponsorships Enjoy a spectacu
 lar evening under the stars and with your favorite people on Saturday July 
 25\,  2026\,  5pm-10pm. Enjoy fine food\,  drinks and entertainment through
 out your leisurely stroll. You might want to wear some comfortable shoes\, 
  remember it’s a stroll. All proceeds from the[..]\nhttps://carrollcounty
 farmmuseum.org/events/night-at-the-farm-museum/
URL:https://carrollcountyfarmmuseum.org/events/night-at-the-farm-museum/
END:VEVENT
END:VCALENDAR